BEGIN:VCALENDAR
VERSION:2.0
PRODID:-//sarniacatholic.ca//eCatholic//EN
X-WR-TIMEZONE:LocalTZ
BEGIN:VTIMEZONE
TZID:LocalTZ
X-LIC-LOCATION:LocalTZ
BEGIN:DAYLIGHT
TZOFFSETFROM:-0500
TZOFFSETTO:-0400
TZNAME:LocalTZ
DTSTART:19700308T020000
RRULE:FREQ=YEARLY;BYMONTH=3;BYDAY=2SU
END:DAYLIGHT
BEGIN:STANDARD
TZOFFSETFROM:-0400
TZOFFSETTO:-0500
TZNAME:LocalTZ
DTSTART:19701101T020000
RRULE:FREQ=YEARLY;BYMONTH=11;BYDAY=1SU
END:STANDARD
END:VTIMEZONE
BEGIN:VEVENT
UID:1721642@sarniacatholic.ca
DTSTAMP:20260420T091806Z
DTSTART:20260505T190000
DTEND:20260505T200000
RRULE:FREQ=MONTHLY;BYDAY=TU;BYSETPOS=1
SUMMARY:SB KofC meeting
END:VEVENT
BEGIN:VEVENT
UID:1723274@sarniacatholic.ca
DTSTAMP:20260420T091806Z
DTSTART:20260514T190000
DTEND:20260514T200000
RRULE:FREQ=MONTHLY;BYDAY=TH;BYSETPOS=2
SUMMARY:SM KofC Meeting
END:VEVENT
BEGIN:VEVENT
UID:1723277@sarniacatholic.ca
DTSTAMP:20260420T091806Z
DTSTART:20260420T190000
DTEND:20260420T210000
RRULE:FREQ=MONTHLY;BYDAY=MO;BYSETPOS=3
EXDATE:20230717T190000
SUMMARY:SM SVP Meeting
END:VEVENT
BEGIN:VEVENT
UID:1761623@sarniacatholic.ca
DTSTAMP:20260420T091806Z
DTSTART:20260422T140000
DTEND:20260422T150000
RRULE:FREQ=MONTHLY;BYDAY=WE;BYSETPOS=4
SUMMARY:St. Michael CWL Meeting
END:VEVENT
BEGIN:VEVENT
UID:1815216@sarniacatholic.ca
DTSTAMP:20260420T091806Z
DTSTART:20260512T190000
DTEND:20260512T210000
RRULE:FREQ=MONTHLY;BYDAY=TU;BYSETPOS=2
SUMMARY:Pastoral Council Meeting
END:VEVENT
BEGIN:VEVENT
UID:2139583@sarniacatholic.ca
DTSTAMP:20260420T091806Z
DTSTART:20260507T183000
DTEND:20260507T203000
RRULE:FREQ=MONTHLY;BYDAY=TH;BYSETPOS=1
EXDATE:20241003T183000,20241205T183000
SUMMARY:Catholic Girls' League Meeting
DESCRIPTION:Must be 8 years old (or made your First Communion). In lieu of
  Membership Dues we ask that the girls bring some coins to add to the Craf
 t Fund Jar.
END:VEVENT
BEGIN:VEVENT
UID:2273219@sarniacatholic.ca
DTSTAMP:20260420T091806Z
DTSTART:20260516T100000
DTEND:20260516T120000
RRULE:FREQ=MONTHLY;BYDAY=SA;BYSETPOS=3
SUMMARY:Chevaliers de Colomb Meeting
END:VEVENT
BEGIN:VEVENT
UID:2372568@sarniacatholic.ca
DTSTAMP:20260420T091806Z
DTSTART:20260505T181500
DTEND:20260505T190000
RRULE:FREQ=MONTHLY;BYDAY=TU;BYSETPOS=1
SUMMARY:1429 Officers Meeting
END:VEVENT
BEGIN:VEVENT
UID:2372569@sarniacatholic.ca
DTSTAMP:20260420T091806Z
DTSTART:20260505T190000
DTEND:20260505T200000
RRULE:FREQ=MONTHLY;BYDAY=TU;BYSETPOS=1
SUMMARY:1429 Membership Meeting
DESCRIPTION:The meeting is followed by a social hour.
END:VEVENT
BEGIN:VEVENT
UID:2632269@sarniacatholic.ca
DTSTAMP:20260420T091806Z
DTSTART:20260420T183000
DTEND:20260420T203000
RRULE:FREQ=MONTHLY;BYDAY=MO;BYSETPOS=3
SUMMARY:CGL Meeting
DESCRIPTION:Come out and have some fun.
END:VEVENT
BEGIN:VEVENT
UID:2941891@sarniacatholic.ca
DTSTAMP:20260420T091806Z
DTSTART:20260426T163000
DTEND:20260426T183000
RRULE:FREQ=WEEKLY;BYDAY=SU
EXDATE:20251109T163000,20251116T163000
SUMMARY:Vespers
DESCRIPTION:Vespers followed by potluck in parish hall
END:VEVENT
BEGIN:VEVENT
UID:2941892@sarniacatholic.ca
DTSTAMP:20260420T091806Z
DTSTART:20260420T183000
DTEND:20260420T193000
RRULE:FREQ=WEEKLY;BYDAY=MO
SUMMARY:English Choir Practice
END:VEVENT
BEGIN:VEVENT
UID:2941895@sarniacatholic.ca
DTSTAMP:20260420T091806Z
DTSTART:20260420T113000
DTEND:20260420T143000
RRULE:FREQ=WEEKLY;BYDAY=MO
SUMMARY:Divine Mercy Store
END:VEVENT
BEGIN:VEVENT
UID:2941896@sarniacatholic.ca
DTSTAMP:20260420T091806Z
DTSTART:20260422T130000
DTEND:20260422T150000
RRULE:FREQ=WEEKLY;BYDAY=WE
SUMMARY:Soup Wednesday
END:VEVENT
BEGIN:VEVENT
UID:2941898@sarniacatholic.ca
DTSTAMP:20260420T091806Z
DTSTART:20260422T190000
DTEND:20260422T200000
RRULE:FREQ=WEEKLY;BYDAY=WE
SUMMARY:Rosary in Spanish
END:VEVENT
BEGIN:VEVENT
UID:2941899@sarniacatholic.ca
DTSTAMP:20260420T091806Z
DTSTART:20260426T100000
DTEND:20260426T110000
RRULE:FREQ=WEEKLY;BYDAY=SU
SUMMARY:Pratique de la chorale
END:VEVENT
BEGIN:VEVENT
UID:2941900@sarniacatholic.ca
DTSTAMP:20260420T091806Z
DTSTART:20260423T183000
DTEND:20260423T193000
RRULE:FREQ=WEEKLY;BYDAY=TH
SUMMARY:Latin Mass Choir Practice
END:VEVENT
BEGIN:VEVENT
UID:3001456@sarniacatholic.ca
DTSTAMP:20260420T091806Z
DTSTART;VALUE=DATE:20260424
DTEND;VALUE=DATE:20260425
SUMMARY:Friday Family Night Bingo
END:VEVENT
BEGIN:VEVENT
UID:3001539@sarniacatholic.ca
DTSTAMP:20260420T091806Z
DTSTART;VALUE=DATE:20260522
DTEND;VALUE=DATE:20260524
SUMMARY:Muskoka Woods Faith Leadership Experience
END:VEVENT
BEGIN:VEVENT
UID:3022230@sarniacatholic.ca
DTSTAMP:20260420T091806Z
DTSTART:20260516T100000
DTEND:20260516T130000
RRULE:FREQ=MONTHLY;BYDAY=SA;BYSETPOS=3
SUMMARY:BLAST
END:VEVENT
BEGIN:VEVENT
UID:3022238@sarniacatholic.ca
DTSTAMP:20260420T091806Z
DTSTART:20260505T190000
DTEND:20260505T210000
RRULE:FREQ=MONTHLY;UNTIL=20260506;BYDAY=TU;BYSETPOS=1
SUMMARY:Charisms
END:VEVENT
BEGIN:VEVENT
UID:3022239@sarniacatholic.ca
DTSTAMP:20260420T091806Z
DTSTART:20260504T183000
DTEND:20260504T203000
RRULE:FREQ=MONTHLY;UNTIL=20260505;BYDAY=MO;BYSETPOS=1
SUMMARY:ALPHA
END:VEVENT
BEGIN:VEVENT
UID:3034432@sarniacatholic.ca
DTSTAMP:20260420T091806Z
DTSTART:20260517T140000
DTEND:20260517T160000
SUMMARY:Monthly Fraternity Meeting
END:VEVENT
BEGIN:VEVENT
UID:3034435@sarniacatholic.ca
DTSTAMP:20260420T091806Z
DTSTART:20260614T140000
DTEND:20260614T160000
SUMMARY:Monthly Fraternity Meeting
END:VEVENT
BEGIN:VEVENT
UID:3034438@sarniacatholic.ca
DTSTAMP:20260420T091806Z
DTSTART:20260719T140000
DTEND:20260719T160000
SUMMARY:Monthly Fraternity Meeting
END:VEVENT
BEGIN:VEVENT
UID:3034442@sarniacatholic.ca
DTSTAMP:20260420T091806Z
DTSTART:20260920T140000
DTEND:20260920T160000
SUMMARY:Monthly Fraternity Meeting
END:VEVENT
BEGIN:VEVENT
UID:3034444@sarniacatholic.ca
DTSTAMP:20260420T091806Z
DTSTART:20261115T140000
DTEND:20261115T160000
SUMMARY:Monthly Fraternity Meeting
END:VEVENT
BEGIN:VEVENT
UID:3034453@sarniacatholic.ca
DTSTAMP:20260420T091806Z
DTSTART:20261004T140000
DTEND:20261004T150000
SUMMARY:Blessing of Pets and their Owners
DESCRIPTION:In honor of St. Francis\, Parishioners are invited to bring th
 eir pets to the St. Benedict's parking lot for a special blessing.  Please
  have your pets on a leash or in a carrier or remain in your vehicles and 
 someone will come to your vehicle to bless your pet. . 
END:VEVENT
BEGIN:VEVENT
UID:3034458@sarniacatholic.ca
DTSTAMP:20260420T091806Z
DTSTART:20261004T150000
DTEND:20261004T160000
SUMMARY:Transitus
DESCRIPTION:Each year on the 3rd evening of October\, Franciscans solemnly
  recall the passing of St. Francis of Assisi from earthly life into eterna
 l life with God. All are invited to celebrate the transitus of St. Francis
 . This celebration will be a time of remembrance\, prayer and reflection. 
 \nCoffee social to follow. 
END:VEVENT
BEGIN:VEVENT
UID:3070714@sarniacatholic.ca
DTSTAMP:20260420T091806Z
DTSTART:20260426T140000
DTEND:20260426T160000
SUMMARY:Volunteer Appreciation
END:VEVENT
END:VCALENDAR
